BEGIN:VCALENDAR
PRODID:-//github.com/rianjs/ical.net//NONSGML ical.net 4.0//EN
VERSION:2.0
BEGIN:VEVENT
DESCRIPTION:Details:\nhttps://bbyo.org/bbyo-near-you/regions/ohio-northern
 -region/onr-j-serve-with-federation-good-deeds-day-and-jcc
DTEND:20240414T120000
DTSTAMP:20260424T183456Z
DTSTART:20240414T100000
LOCATION:
SEQUENCE:0
SUMMARY:ONR J-Serve with Federation Good Deeds Day and JCC
UID:ca55f9e9-ec78-48ac-8fdc-a624a203c777
END:VEVENT
END:VCALENDAR
