BEGIN:VCALENDAR
PRODID:-//github.com/rianjs/ical.net//NONSGML ical.net 4.0//EN
VERSION:2.0
BEGIN:VEVENT
DESCRIPTION:Details:\nhttps://bbyo.org/bbyo-near-you/regions/keystone-moun
 tain-region/kmr-kickoff-pittsburgh-pirates
DTEND:20170902T010000
DTSTAMP:20260422T120417Z
DTSTART;VALUE=DATE:20170902
LOCATION:
SEQUENCE:0
SUMMARY:KMR-Kickoff-Pittsburgh Pirates
UID:1336c127-57d3-4324-b3ce-6b8c5edaa8ce
END:VEVENT
END:VCALENDAR
