BEGIN:VCALENDAR
PRODID:-//github.com/rianjs/ical.net//NONSGML ical.net 4.0//EN
VERSION:2.0
BEGIN:VEVENT
DESCRIPTION:Details:\nhttps://bbyo.org/bbyo-near-you/regions/lake-ontario-
 region/opening-program
DTEND:20060906T200000
DTSTAMP:20260425T170050Z
DTSTART:20060906T180000
LOCATION:BBYO office
SEQUENCE:0
SUMMARY:Opening Program
UID:45727e96-09ad-44f5-9e21-11850893c920
END:VEVENT
END:VCALENDAR
