BEGIN:VCALENDAR
PRODID:-//github.com/rianjs/ical.net//NONSGML ical.net 4.0//EN
VERSION:2.0
BEGIN:VEVENT
DESCRIPTION:Details:\nhttps://bbyo.org/bbyo-near-you/regions/evergreen-reg
 ion/egr-regional-board-overnight-(1)
DTEND;VALUE=DATE:20180823
DTSTAMP:20260423T002002Z
DTSTART;VALUE=DATE:20170821
LOCATION:
SEQUENCE:0
SUMMARY:EGR-Regional Board Overnight
UID:86129b2a-cc2e-49d7-9425-8c8772bdba93
END:VEVENT
END:VCALENDAR
