BEGIN:VCALENDAR
PRODID:-//github.com/rianjs/ical.net//NONSGML ical.net 4.0//EN
VERSION:2.0
BEGIN:VEVENT
DESCRIPTION:Details:\nhttps://bbyo.org/bbyo-near-you/regions/northern-regi
 on-east-baltimore-council/baltimore-council-spring-term-chapter-execs-(1)
 \n\nSummary:\nBaltimore Council Chapter Execs Training will be on Sunday\
 , January  5th\, from 9am to 12pm. The Council Board will lead an immersi
 ve morning of training to set up our Chapter leadership for
DTEND:20200105T120000
DTSTAMP:20260420T095247Z
DTSTART:20200105T090000
LOCATION:Owings Mills Maryland
SEQUENCE:0
SUMMARY:Baltimore Council Spring Term Chapter Execs
UID:4bc85156-883d-4f81-91b8-bfe6bf6851fb
END:VEVENT
END:VCALENDAR
