BEGIN:VCALENDAR
PRODID:-//github.com/rianjs/ical.net//NONSGML ical.net 4.0//EN
VERSION:2.0
BEGIN:VEVENT
DESCRIPTION:Details:\nhttps://bbyo.org/bbyo-near-you/regions/wisconsin-reg
 ion/wisc-spring-2324-calendar-clearance
DTEND:20231219T200000
DTSTAMP:20260423T133827Z
DTSTART:20231219T190000
LOCATION:Offices
SEQUENCE:0
SUMMARY:Wisc Spring 2324 Calendar Clearance
UID:5626b71d-6fff-42be-9e07-c24620ca97ac
END:VEVENT
END:VCALENDAR
