BEGIN:VCALENDAR
PRODID:-//github.com/rianjs/ical.net//NONSGML ical.net 4.0//EN
VERSION:2.0
BEGIN:VEVENT
DESCRIPTION:Details:\nhttps://bbyo.org/bbyo-near-you/regions/lonestar-regi
 on/lsr-spring-con-steering-week-4
DTEND:20240328T200000
DTSTAMP:20260423T002104Z
DTSTART:20240328T183000
LOCATION:
SEQUENCE:0
SUMMARY:LSR Spring Con Steering Week 4
UID:19aa0ea0-83f1-4275-a407-f41c6a1fa0de
END:VEVENT
END:VCALENDAR
