BEGIN:VCALENDAR
PRODID:-//github.com/rianjs/ical.net//NONSGML ical.net 4.0//EN
VERSION:2.0
BEGIN:VEVENT
DESCRIPTION:Details:\nhttps://bbyo.org/bbyo-near-you/regions/pacific-weste
 rn-region/avirah-tovah/avirah-tovah-casino-night
DTEND:20230121T210000
DTSTAMP:20260420T162717Z
DTSTART:20230121T160000
LOCATION:Newport Beach California
SEQUENCE:0
SUMMARY:Avirah Tovah Casino Night
UID:35321779-3880-456b-84af-f73050b16c65
END:VEVENT
END:VCALENDAR
