BEGIN:VCALENDAR
PRODID:-//github.com/rianjs/ical.net//NONSGML ical.net 4.0//EN
VERSION:2.0
BEGIN:VEVENT
DESCRIPTION:Details:\nhttps://bbyo.org/bbyo-near-you/regions/central-regio
 n-west/bbyo-crw_cubs
DTEND:20160115T220000
DTSTAMP:20260423T042651Z
DTSTART:20160115T190000
LOCATION:PJCC
SEQUENCE:0
SUMMARY:BBYO CRW_CUBS
UID:b4d239d0-d26f-49c7-94f0-2debe12f1e62
END:VEVENT
END:VCALENDAR
