BEGIN:VCALENDAR
PRODID:-//github.com/rianjs/ical.net//NONSGML ical.net 4.0//EN
VERSION:2.0
BEGIN:VEVENT
DESCRIPTION:Details:\nhttps://bbyo.org/bbyo-near-you/regions/north-texas-o
 klahoma-region/mockingjay-2-pre-screening-pc4010\n\nSummary:\nWe are very
  happy to have both BBYO and non-BBYO members and your families joining u
 s tonight. How many of you tonight are NOT members of BBYO? (pause and ha
 ve them raise hands) - BBYO\, let’
DTEND:20151118T213000
DTSTAMP:20260425T235443Z
DTSTART:20151118T190000
LOCATION:Studio Movie Grill - Spring Valley
SEQUENCE:0
SUMMARY:Mockingjay 2 Pre-Screening PC4010
UID:5d2c4733-4876-4007-b83e-7f0431925ca4
END:VEVENT
END:VCALENDAR
