BEGIN:VCALENDAR
PRODID:-//github.com/rianjs/ical.net//NONSGML ical.net 4.0//EN
VERSION:2.0
BEGIN:VEVENT
DESCRIPTION:Details:\nhttps://bbyo.org/bbyo-near-you/regions/mid-america-r
 egion-kansas-city-council/bbyo-connect-(6th-8th-grades)-chicken-n-pickle
DTEND:20240922T153000
DTSTAMP:20260425T182813Z
DTSTART:20240922T140000
LOCATION:Overland Park Kansas
SEQUENCE:0
SUMMARY:BBYO CONNECT: (6th - 8th Grades) Chicken N Pickle
UID:4a65dbd0-3304-4f52-a11f-ee765ab41e8b
END:VEVENT
END:VCALENDAR
