BEGIN:VCALENDAR
PRODID:-//github.com/rianjs/ical.net//NONSGML ical.net 4.0//EN
VERSION:2.0
BEGIN:VEVENT
DESCRIPTION:Details:\nhttps://bbyo.org/bbyo-near-you/regions/south-jersey-
 region/sjr-goes-to-nyc\n\nSummary:\nJoin SJR as we get on a bus and go to
  NYC together! We will start the day at the Museum of Jewish Heratige and
  go through an exhibit about Auschwitz (more info here: https://mjhnyc.or
 g/exhib
DTEND:20191107T220000
DTSTAMP:20260419T145830Z
DTSTART:20191107T100000
LOCATION:Start at Katz JCC
SEQUENCE:0
SUMMARY:SJR goes to NYC
UID:22c4bd9c-f416-4d63-ad8a-26afc5ee9229
END:VEVENT
END:VCALENDAR
