BEGIN:VCALENDAR
PRODID:-//github.com/rianjs/ical.net//NONSGML ical.net 4.0//EN
VERSION:2.0
BEGIN:VEVENT
DESCRIPTION:Details:\nhttps://bbyo.org/bbyo-near-you/regions/wisconsin-reg
 ion/oneg-thanksniving
DTEND:20231117T170000
DTSTAMP:20260420T191914Z
DTSTART:20231117T150000
LOCATION:Offices
SEQUENCE:0
SUMMARY:Oneg: ThanksNIVing
UID:3df19000-e4d0-4c58-b366-21a71e79180c
END:VEVENT
END:VCALENDAR
