BEGIN:VCALENDAR
PRODID:-//github.com/rianjs/ical.net//NONSGML ical.net 4.0//EN
VERSION:2.0
BEGIN:VEVENT
DESCRIPTION:Details:\nhttps://bbyo.org/bbyo-near-you/regions/central-regio
 n-west/crw-ic-launch-night-party-east-bay\n\nSummary:\nCan't wait for Int
 ernational Convention in February? Neither can we. Celebrate the opening 
 of IC registration with free food and swag\, and bring your credit card s
 o you can be among the firs
DTEND:20181004T183000
DTSTAMP:20260419T145956Z
DTSTART:20181004T163000
LOCATION:Oakland California
SEQUENCE:0
SUMMARY:CRW IC Launch Night Party: East Bay
UID:095b554f-b21b-4396-8aa7-d51dba42af31
END:VEVENT
END:VCALENDAR
