BEGIN:VCALENDAR
PRODID:-//github.com/rianjs/ical.net//NONSGML ical.net 4.0//EN
VERSION:2.0
BEGIN:VEVENT
DESCRIPTION:Details:\nhttps://bbyo.org/bbyo-near-you/regions/mid-america-r
 egion-st-louis-council/kickoff-week-council-wide-havdalah
DTEND:20200912T203000
DTSTAMP:20260424T121441Z
DTSTART:20200912T200000
LOCATION:
SEQUENCE:0
SUMMARY:Kickoff Week: Council-Wide Havdalah
UID:52aa9b91-d52c-4a4b-aafa-c80f4c42cfcc
END:VEVENT
END:VCALENDAR
