BEGIN:VCALENDAR
PRODID:-//github.com/rianjs/ical.net//NONSGML ical.net 4.0//EN
VERSION:2.0
BEGIN:VEVENT
DESCRIPTION:Details:\nhttps://bbyo.org/bbyo-near-you/regions/great-midwest
 -region/gmr-palmach-seadog-boat-tour-extreme-thrill-ride!
DTEND:20180616T000100
DTSTAMP:20260424T105714Z
DTSTART;VALUE=DATE:20180616
LOCATION:
SEQUENCE:0
SUMMARY:GMR-Palmach Seadog Boat Tour - Extreme Thrill Ride!
UID:0012610b-91e2-4d02-85f7-3c11155bbb04
END:VEVENT
END:VCALENDAR
