BEGIN:VCALENDAR
PRODID:-//github.com/rianjs/ical.net//NONSGML ical.net 4.0//EN
VERSION:2.0
BEGIN:VEVENT
DESCRIPTION:Details:\nhttps://bbyo.org/bbyo-near-you/regions/mountain-regi
 on/board-training-execs
DTEND:20240107T170000
DTSTAMP:20260426T030334Z
DTSTART:20240107T150000
LOCATION:TUCSON JCC
SEQUENCE:0
SUMMARY:Board Training / Execs
UID:6c9dd5b7-6c7b-4655-8fef-4b5f41851db6
END:VEVENT
END:VCALENDAR
