BEGIN:VCALENDAR
PRODID:-//github.com/rianjs/ical.net//NONSGML ical.net 4.0//EN
VERSION:2.0
BEGIN:VEVENT
DESCRIPTION:Details:\nhttps://bbyo.org/bbyo-near-you/regions/liberty-regio
 n/apple-picking
DTEND;VALUE=DATE:20160925
DTSTAMP:20260422T084823Z
DTSTART;VALUE=DATE:20160925
LOCATION:
SEQUENCE:0
SUMMARY:Apple Picking
UID:9516255e-e165-4b68-9db0-a09111d3ac57
END:VEVENT
END:VCALENDAR
