BEGIN:VCALENDAR
PRODID:-//github.com/rianjs/ical.net//NONSGML ical.net 4.0//EN
VERSION:2.0
BEGIN:VEVENT
DESCRIPTION:Details:\nhttps://bbyo.org/bbyo-near-you/regions/central-regio
 n-west/crw-fall-2024-kickoff
DTEND:20240907T220000
DTSTAMP:20260422T054745Z
DTSTART:20240907T193000
LOCATION:Cupertino California
SEQUENCE:0
SUMMARY:CRW Fall 2024 Kickoff
UID:8c3a7cb6-45c0-4ce8-909d-28aaa84ebb42
END:VEVENT
END:VCALENDAR
