BEGIN:VCALENDAR
PRODID:-//github.com/rianjs/ical.net//NONSGML ical.net 4.0//EN
VERSION:2.0
BEGIN:VEVENT
DESCRIPTION:Details:\nhttps://bbyo.org/bbyo-near-you/regions/south-jersey-
 region/september-bbyo-night-(1)\n\nSummary:\nJoin SJR once a month as we 
 gather at the Katz JCC for a BBYO night.
DTEND:20180916T210000
DTSTAMP:20260421T011026Z
DTSTART:20180916T190000
LOCATION:Cherry Hill New Jersey
SEQUENCE:0
SUMMARY:September BBYO Night
UID:e836c818-b84c-4cf3-bea0-3af3f803458e
END:VEVENT
END:VCALENDAR
