BEGIN:VCALENDAR
PRODID:-//github.com/rianjs/ical.net//NONSGML ical.net 4.0//EN
VERSION:2.0
BEGIN:VEVENT
DESCRIPTION:Details:\nhttps://bbyo.org/bbyo-near-you/regions/wisconsin-reg
 ion/74th-wisconsin-regional-board-august-xx
DTEND:20230827T150000
DTSTAMP:20260423T195702Z
DTSTART:20230825T183000
LOCATION:BBYO Offices
SEQUENCE:0
SUMMARY:74th Wisconsin Regional Board August XX
UID:ffdf96ee-3eb8-466f-af6f-c2767c5b6347
END:VEVENT
END:VCALENDAR
