BEGIN:VCALENDAR
PRODID:-//github.com/rianjs/ical.net//NONSGML ical.net 4.0//EN
VERSION:2.0
BEGIN:VEVENT
DESCRIPTION:Details:\nhttps://bbyo.org/bbyo-near-you/regions/northern-regi
 on-east-dc-council/hilah/hilah-monday-meeting
DTEND:20231023T203000
DTSTAMP:20260421T083150Z
DTSTART:20231023T193000
LOCATION:Specific location information will be sent to confirmed registran
 ts
SEQUENCE:0
SUMMARY:Hilah Monday meeting
UID:1fdb307a-fe8c-4998-926c-557018e3696d
END:VEVENT
END:VCALENDAR
