BEGIN:VCALENDAR
PRODID:-//github.com/rianjs/ical.net//NONSGML ical.net 4.0//EN
VERSION:2.0
BEGIN:VEVENT
DESCRIPTION:Details:\nhttps://bbyo.org/bbyo-near-you/regions/nassau-suffol
 k-region/suffolk-fall-fest
DTEND:20221113T160000
DTSTAMP:20260422T120250Z
DTSTART:20221113T140000
LOCATION:Plainview New York
SEQUENCE:0
SUMMARY:Suffolk Fall Fest
UID:b233ea9a-4ff0-4b54-b750-8c425af24d9a
END:VEVENT
END:VCALENDAR
