BEGIN:VCALENDAR
PRODID:-//github.com/rianjs/ical.net//NONSGML ical.net 4.0//EN
VERSION:2.0
BEGIN:VEVENT
DESCRIPTION:Details:\nhttps://bbyo.org/bbyo-near-you/regions/delta-region/
 cotton-states-fall-regional-kickoff
DTEND;VALUE=DATE:20170917
DTSTAMP:20260422T202409Z
DTSTART;VALUE=DATE:20170915
LOCATION:
SEQUENCE:0
SUMMARY:Cotton States Fall Regional Kickoff
UID:4ad0c089-3b98-4ed1-b490-283812e9b17d
END:VEVENT
END:VCALENDAR
