BEGIN:VCALENDAR
PRODID:-//github.com/rianjs/ical.net//NONSGML ical.net 4.0//EN
VERSION:2.0
BEGIN:VEVENT
DESCRIPTION:Details:\nhttps://bbyo.org/bbyo-near-you/regions/new-england-r
 egion/regional-kickoff\n\nSummary:\nHowdy! Join us for NER's Western Kick
 off with a food truck\, dancing\, outdoor games\, and hanging out. Look o
 ut for some great surprises throughout the night!
DTEND:20181006T230000
DTSTAMP:20260423T114248Z
DTSTART:20181006T200000
LOCATION:Boston Massachusetts
SEQUENCE:0
SUMMARY:Regional Kickoff
UID:a7fe11d5-446b-48e0-96ca-a2b9368eaf3f
END:VEVENT
END:VCALENDAR
