BEGIN:VCALENDAR
PRODID:-//github.com/rianjs/ical.net//NONSGML ical.net 4.0//EN
VERSION:2.0
BEGIN:VEVENT
DESCRIPTION:Details:\nhttps://bbyo.org/bbyo-near-you/regions/manhattan-reg
 ion/manhattan-region-s-end-of-year-celebration
DTEND:20220608T203000
DTSTAMP:20260423T115336Z
DTSTART:20220608T183000
LOCATION:JCC Rooftop
SEQUENCE:0
SUMMARY:Manhattan Region's End of Year Celebration
UID:be094002-90d3-455b-8920-2232e4e18a29
END:VEVENT
END:VCALENDAR
