BEGIN:VCALENDAR
PRODID:-//github.com/rianjs/ical.net//NONSGML ical.net 4.0//EN
VERSION:2.0
BEGIN:VEVENT
DESCRIPTION:Details:\nhttps://bbyo.org/bbyo-near-you/regions/northern-regi
 on-east-dc-council/howard-county-monday-meet-up-(5)
DTEND:20231106T200000
DTSTAMP:20260420T162222Z
DTSTART:20231106T190000
LOCATION:
SEQUENCE:0
SUMMARY:Howard County Monday Meet-Up
UID:f4c3407f-a404-4d47-83dd-3bab6d997e19
END:VEVENT
END:VCALENDAR
