BEGIN:VCALENDAR
PRODID:-//github.com/rianjs/ical.net//NONSGML ical.net 4.0//EN
VERSION:2.0
BEGIN:VEVENT
DESCRIPTION:Details:\nhttps://bbyo.org/bbyo-near-you/regions/lonestar-regi
 on/sababa-(1)/san-antonio-lti
DTEND:20220821T160000
DTSTAMP:20260422T101235Z
DTSTART:20220821T130000
LOCATION:JCC
SEQUENCE:0
SUMMARY:San Antonio LTI
UID:f7403d3f-8a6b-4025-b7cc-526de3663a9a
END:VEVENT
END:VCALENDAR
