BEGIN:VCALENDAR
PRODID:-//github.com/rianjs/ical.net//NONSGML ical.net 4.0//EN
VERSION:2.0
BEGIN:VEVENT
DESCRIPTION:Details:\nhttps://bbyo.org/bbyo-near-you/regions/lake-ontario-
 region/lor-frat-sis-convention-2022
DTEND;VALUE=DATE:20220206
DTSTAMP:20260423T043002Z
DTSTART;VALUE=DATE:20220204
LOCATION:Sheraton Parkway Hotel
SEQUENCE:0
SUMMARY:LOR Frat/Sis Convention 2022
UID:29692b6d-70cd-4b1d-8667-dd15d64b7e9e
END:VEVENT
END:VCALENDAR
