BEGIN:VCALENDAR
PRODID:-//github.com/rianjs/ical.net//NONSGML ical.net 4.0//EN
VERSION:2.0
BEGIN:VEVENT
DESCRIPTION:Details:\nhttps://bbyo.org/bbyo-near-you/regions/kentucky-indi
 ana-ohio-region/kio-spring-convention-2021\n\nSummary:\nKIOs Going Back t
 o Convention! Join your fellow Alephs and BBGs from Friday\, April 23rd t
 hrough Sunday\, April 25th. Convention programming will take place during
  non-school hours. \n\nThis yea
DTEND:20210425T200000
DTSTAMP:20260425T235215Z
DTSTART:20210423T170000
LOCATION:Across KIO
SEQUENCE:0
SUMMARY:KIO Spring Convention 2021
UID:80b08471-dafe-4420-863a-3fa221b687d2
END:VEVENT
END:VCALENDAR
