BEGIN:VCALENDAR
PRODID:-//github.com/rianjs/ical.net//NONSGML ical.net 4.0//EN
VERSION:2.0
BEGIN:VEVENT
DESCRIPTION:Details:\nhttps://bbyo.org/bbyo-near-you/regions/lake-ontario-
 region/lor-j-serve-schwartz-reisman-centre\n\nSummary:\nAssociation for S
 oldiers of Israel – Write Letters to Soldiers \nGrades 8-12 / Maximum 40 
 teens \nHosted by: Bayley Abrams & Lexie Reiken \nWrite letters to soldie
 rs in Israel in partnership wi
DTEND:20190407T170000
DTSTAMP:20260419T145909Z
DTSTART:20190407T140000
LOCATION:Schwartz/Reisman Centre  Lebovic Jewish Community Campus
SEQUENCE:0
SUMMARY:LOR J-Serve: Schwartz/Reisman Centre
UID:010eea15-9c98-4407-912d-fa3324a6d51d
END:VEVENT
END:VCALENDAR
