BEGIN:VCALENDAR
PRODID:-//github.com/rianjs/ical.net//NONSGML ical.net 4.0//EN
VERSION:2.0
BEGIN:VEVENT
DESCRIPTION:Details:\nhttps://bbyo.org/bbyo-near-you/regions/northern-regi
 on-east-dc-council/monday-meet-up
DTEND:20210913T200000
DTSTAMP:20260421T163629Z
DTSTART:20210913T190000
LOCATION:Bender JCC
SEQUENCE:0
SUMMARY:Monday Meet-Up
UID:61e9c9ea-bb8d-43a3-86f2-fdd9fd683815
END:VEVENT
END:VCALENDAR
