BEGIN:VCALENDAR
PRODID:-//github.com/rianjs/ical.net//NONSGML ical.net 4.0//EN
VERSION:2.0
BEGIN:VEVENT
DESCRIPTION:Details:\nhttps://bbyo.org/bbyo-near-you/regions/lonestar-regi
 on/sababa-(1)/sababa-hanukah-white-elephant-party
DTEND:20221212T200000
DTSTAMP:20260425T102711Z
DTSTART:20221212T180000
LOCATION:San Antonio  Texas
SEQUENCE:0
SUMMARY:Sababa Hanukah White Elephant Party
UID:99dce5b8-57e6-41f4-a7c0-e8ba5e871895
END:VEVENT
END:VCALENDAR
