BEGIN:VCALENDAR
PRODID:-//github.com/rianjs/ical.net//NONSGML ical.net 4.0//EN
VERSION:2.0
BEGIN:VEVENT
DESCRIPTION:Details:\nhttps://bbyo.org/bbyo-near-you/regions/northern-regi
 on-east-baltimore-council/baltimore-council-aza-underground\n\nSummary:\n
 Join your fellow Alephs from Baltimore Council for a night of bonding\, f
 un\, and brotherhood! You don't want to miss this event!
DTEND:20190413T210000
DTSTAMP:20260425T235235Z
DTSTART:20190413T190000
LOCATION:Owings Mills Maryland
SEQUENCE:0
SUMMARY:Baltimore Council AZA Underground
UID:d4397699-abd5-4c36-ac5a-25bdabb1eff5
END:VEVENT
END:VCALENDAR
