BEGIN:VCALENDAR
PRODID:-//github.com/rianjs/ical.net//NONSGML ical.net 4.0//EN
VERSION:2.0
BEGIN:VEVENT
DESCRIPTION:Details:\nhttps://bbyo.org/bbyo-near-you/regions/eastern-regio
 n/saul-nahum-wing-night
DTEND:20220308T201500
DTSTAMP:20260423T091758Z
DTSTART:20220308T181500
LOCATION:BaDa Wings (Creedmoor)
SEQUENCE:0
SUMMARY:Saul Nahum Wing Night
UID:c8c57da0-4589-4c61-9e20-f42ccd4d5492
END:VEVENT
END:VCALENDAR
