BEGIN:VCALENDAR
PRODID:-//github.com/rianjs/ical.net//NONSGML ical.net 4.0//EN
VERSION:2.0
BEGIN:VEVENT
DESCRIPTION:Details:\nhttps://bbyo.org/bbyo-near-you/regions/wisconsin-reg
 ion/wi-oneg-11-22-19
DTEND:20191122T170000
DTSTAMP:20260423T200447Z
DTSTART:20191122T150000
LOCATION:
SEQUENCE:0
SUMMARY:WI - Oneg - 11.22.19
UID:382270ef-908c-4335-8295-6dbe92874028
END:VEVENT
END:VCALENDAR
