BEGIN:VCALENDAR
PRODID:-//github.com/rianjs/ical.net//NONSGML ical.net 4.0//EN
VERSION:2.0
BEGIN:VEVENT
DESCRIPTION:Details:\nhttps://bbyo.org/bbyo-near-you/regions/liberty-regio
 n/gbd-ambassador-meeting
DTEND:20231116T210000
DTSTAMP:20260423T201124Z
DTSTART:20231116T200000
LOCATION:https://bbyo-org.zoom.us/j/88021536213
SEQUENCE:0
SUMMARY:GBD Ambassador Meeting
UID:44837395-4689-405b-ae6a-613045135133
END:VEVENT
END:VCALENDAR
