BEGIN:VCALENDAR
PRODID:-//github.com/rianjs/ical.net//NONSGML ical.net 4.0//EN
VERSION:2.0
BEGIN:VEVENT
DESCRIPTION:Details:\nhttps://bbyo.org/bbyo-near-you/regions/wisconsin-reg
 ion/rainbowneg
DTEND:20240405T170000
DTSTAMP:20260426T030233Z
DTSTART:20240405T151500
LOCATION:Offices
SEQUENCE:0
SUMMARY:RainbOwNEG
UID:47615cf9-2f61-425c-a4b8-9c7b42dd1aba
END:VEVENT
END:VCALENDAR
