BEGIN:VCALENDAR
PRODID:-//github.com/rianjs/ical.net//NONSGML ical.net 4.0//EN
VERSION:2.0
BEGIN:VEVENT
DESCRIPTION:Details:\nhttps://bbyo.org/bbyo-near-you/regions/michigan-regi
 on/regional-convention-coordinator-training
DTEND:20231004T200000
DTSTAMP:20260423T212733Z
DTSTART:20231004T173000
LOCATION:
SEQUENCE:0
SUMMARY:Regional Convention Coordinator Training
UID:079350c5-4852-4768-b44e-ec019a2cabca
END:VEVENT
END:VCALENDAR
