BEGIN:VCALENDAR
PRODID:-//github.com/rianjs/ical.net//NONSGML ical.net 4.0//EN
VERSION:2.0
BEGIN:VEVENT
DESCRIPTION:Details:\nhttps://bbyo.org/bbyo-near-you/regions/lake-ontario-
 region/chat-tc-dec-15
DTEND:20051215T130000
DTSTAMP:20260420T131659Z
DTSTART:20051215T120000
LOCATION:
SEQUENCE:0
SUMMARY:CHAT TC Dec. 15
UID:4d192b0c-c228-4b1e-9502-7739547ebbe9
END:VEVENT
END:VCALENDAR
