BEGIN:VCALENDAR
PRODID:-//github.com/rianjs/ical.net//NONSGML ical.net 4.0//EN
VERSION:2.0
BEGIN:VEVENT
DESCRIPTION:Details:\nhttps://bbyo.org/bbyo-near-you/regions/michigan-regi
 on/college-connection\n\nSummary:\nA bus trip from the Detroit area to Mi
 chigan State University in East Lansing. The trip will focus on Jewish li
 fe on campus\, including Hillel\, Jewish studies\, and Jewish fraternitie
 s and sor
DTEND;VALUE=DATE:20060318
DTSTAMP:20260419T143429Z
DTSTART;VALUE=DATE:20060317
LOCATION:Michigan State University
SEQUENCE:0
SUMMARY:College Connection
UID:2149de85-3c22-4752-ab21-9283a47e4e79
END:VEVENT
END:VCALENDAR
