BEGIN:VCALENDAR
PRODID:-//github.com/rianjs/ical.net//NONSGML ical.net 4.0//EN
VERSION:2.0
BEGIN:VEVENT
DESCRIPTION:Details:\nhttps://bbyo.org/bbyo-near-you/regions/connecticut-v
 alley-region/cvr-winter-kallah-2020\n\nSummary:\nCalling all 8th - 12th g
 rader members\, get ready to join CVR for our Winter Kallah 2020!\n\nEarl
 y Registration: $290\, ends Jan 9th\nLate Registration: $340\, ends Jan 1
 5th\n\nScholarship applicati
DTEND:20200126T140000
DTSTAMP:20260423T114654Z
DTSTART:20200124T160000
LOCATION:Danbury Crowne Plaza Hotel
SEQUENCE:0
SUMMARY:CVR Winter Kallah 2020
UID:98fca201-97b8-4143-9420-f0b56007919f
END:VEVENT
END:VCALENDAR
