BEGIN:VCALENDAR
PRODID:-//github.com/rianjs/ical.net//NONSGML ical.net 4.0//EN
VERSION:2.0
BEGIN:VEVENT
DESCRIPTION:Details:\nhttps://bbyo.org/bbyo-near-you/regions/northern-regi
 on-east-northern-virginia-council/debate-night-party
DTEND;VALUE=DATE:20161019
DTSTAMP:20260423T133829Z
DTSTART;VALUE=DATE:20161019
LOCATION:
SEQUENCE:0
SUMMARY:Debate Night Party
UID:3966023b-63a9-4efc-90b4-67ea25d32bd4
END:VEVENT
END:VCALENDAR
