BEGIN:VCALENDAR
PRODID:-//github.com/rianjs/ical.net//NONSGML ical.net 4.0//EN
VERSION:2.0
BEGIN:VEVENT
DESCRIPTION:Details:\nhttps://bbyo.org/bbyo-near-you/regions/pacific-weste
 rn-region/ic-2023-swag-pack-sale\n\nSummary:\nIf you are attending IC 202
 3\, purchase these swag packs to match the rest of the region during Open
 ing Ceremonies!
DTEND;VALUE=DATE:20230208
DTSTAMP:20260422T113859Z
DTSTART:20230207T235900
LOCATION:SALE OPEN 1/30-2/6 11:59PM
SEQUENCE:0
SUMMARY:IC 2023 Swag Pack Sale
UID:b7cb3ba1-7f93-4dc3-9f30-3cae7225801f
END:VEVENT
END:VCALENDAR
