BEGIN:VCALENDAR
PRODID:-//github.com/rianjs/ical.net//NONSGML ical.net 4.0//EN
VERSION:2.0
BEGIN:VEVENT
DESCRIPTION:Details:\nhttps://bbyo.org/bbyo-near-you/regions/lonestar-regi
 on/austin-bbyo-typhoon-texas-fall-kickoff
DTEND:20210829T160000
DTSTAMP:20260422T062821Z
DTSTART:20210829T130000
LOCATION:Pflugerville Texas
SEQUENCE:0
SUMMARY:Austin BBYO Typhoon Texas Fall Kickoff
UID:5b43860b-658f-4d5d-a022-8fbf0efcde7b
END:VEVENT
END:VCALENDAR
