BEGIN:VCALENDAR
PRODID:-//github.com/rianjs/ical.net//NONSGML ical.net 4.0//EN
VERSION:2.0
BEGIN:VEVENT
DESCRIPTION:Details:\nhttps://bbyo.org/bbyo-near-you/regions/delta-region/
 cotton-states-regional-new-member-weekend
DTEND;VALUE=DATE:20171029
DTSTAMP:20260423T195722Z
DTSTART;VALUE=DATE:20171027
LOCATION:
SEQUENCE:0
SUMMARY:Cotton States Regional New Member Weekend
UID:7121709b-09a9-472e-aeb3-328416a9130a
END:VEVENT
END:VCALENDAR
