BEGIN:VCALENDAR
PRODID:-//github.com/rianjs/ical.net//NONSGML ical.net 4.0//EN
VERSION:2.0
BEGIN:VEVENT
DESCRIPTION:Details:\nhttps://bbyo.org/bbyo-near-you/regions/kentucky-indi
 ana-ohio-region/kio-67-regional-board-retreat
DTEND:20210912T140000
DTSTAMP:20260422T101326Z
DTSTART:20210911T100000
LOCATION:
SEQUENCE:0
SUMMARY:KIO 67 Regional Board Retreat
UID:b7b25c75-14e9-44e9-8183-ee8784d18f0e
END:VEVENT
END:VCALENDAR
