BEGIN:VCALENDAR
PRODID:-//github.com/rianjs/ical.net//NONSGML ical.net 4.0//EN
VERSION:2.0
BEGIN:VEVENT
DESCRIPTION:Details:\nhttps://bbyo.org/bbyo-near-you/regions/lonestar-regi
 on/houston-bbyo-fall-fest\n\nSummary:\nGet excited for Fall Fest! This is
  the first chance for the class of 2027 to join with Houston BBYO's high 
 school members and we are renting out sand volleyball courts for a fun ev
 ening with food\, friends\, and a great introduction to BBYO. \n\nPlease 
 email Sarah Yonas with any questions at syonas@bbyo.org and share the eve
 nt with your Jewish friends!
DTEND:20221112T210000
DTSTAMP:20260423T042648Z
DTSTART:20221112T190000
LOCATION:Houston Texas
SEQUENCE:0
SUMMARY:Houston BBYO Fall Fest
UID:2f6bb5a9-8a0b-4f28-8115-d7ba007883ed
END:VEVENT
END:VCALENDAR
