BEGIN:VCALENDAR
PRODID:-//github.com/rianjs/ical.net//NONSGML ical.net 4.0//EN
VERSION:2.0
BEGIN:VEVENT
DESCRIPTION:Details:\nhttps://bbyo.org/bbyo-near-you/regions/north-texas-o
 klahoma-region/fall-convention-steering-meeting-6
DTEND:20211024T150000
DTSTAMP:20260419T160353Z
DTSTART:20211024T130000
LOCATION:Aliyah's House
SEQUENCE:0
SUMMARY:Fall Convention Steering Meeting 6
UID:52039239-c27b-4894-a35f-77b64ef18f9d
END:VEVENT
END:VCALENDAR
