BEGIN:VCALENDAR
PRODID:-//github.com/rianjs/ical.net//NONSGML ical.net 4.0//EN
VERSION:2.0
BEGIN:VEVENT
DESCRIPTION:Details:\nhttps://bbyo.org/bbyo-near-you/regions/eastern-regio
 n/charleston/charleston-bbyo-sky-zone-event
DTEND:20240204T150000
DTSTAMP:20260420T115917Z
DTSTART:20240204T130000
LOCATION:Charleston Sky Zone
SEQUENCE:0
SUMMARY:Charleston BBYO Sky Zone event
UID:47c937f7-cd6c-4c19-8f94-18692b9b3d26
END:VEVENT
END:VCALENDAR
